BEGIN:VCALENDAR
VERSION:2.0
PRODID:-//AdvantEdge Training &amp; Consulting - ECPv6.15.19//NONSGML v1.0//EN
CALSCALE:GREGORIAN
METHOD:PUBLISH
X-WR-CALNAME:AdvantEdge Training &amp; Consulting
X-ORIGINAL-URL:https://www.advantedge-training.com
X-WR-CALDESC:Events for AdvantEdge Training &amp; Consulting
REFRESH-INTERVAL;VALUE=DURATION:PT1H
X-Robots-Tag:noindex
X-PUBLISHED-TTL:PT1H
BEGIN:VTIMEZONE
TZID:America/Denver
BEGIN:DAYLIGHT
TZOFFSETFROM:-0700
TZOFFSETTO:-0600
TZNAME:MDT
DTSTART:20220313T090000
END:DAYLIGHT
BEGIN:STANDARD
TZOFFSETFROM:-0600
TZOFFSETTO:-0700
TZNAME:MST
DTSTART:20221106T080000
END:STANDARD
BEGIN:DAYLIGHT
TZOFFSETFROM:-0700
TZOFFSETTO:-0600
TZNAME:MDT
DTSTART:20230312T090000
END:DAYLIGHT
BEGIN:STANDARD
TZOFFSETFROM:-0600
TZOFFSETTO:-0700
TZNAME:MST
DTSTART:20231105T080000
END:STANDARD
BEGIN:DAYLIGHT
TZOFFSETFROM:-0700
TZOFFSETTO:-0600
TZNAME:MDT
DTSTART:20240310T090000
END:DAYLIGHT
BEGIN:STANDARD
TZOFFSETFROM:-0600
TZOFFSETTO:-0700
TZNAME:MST
DTSTART:20241103T080000
END:STANDARD
END:VTIMEZONE
BEGIN:VEVENT
DTSTART;TZID=America/Denver:20230130T080000
DTEND;TZID=America/Denver:20230201T160000
DTSTAMP:20260421T235632
CREATED:20230110T150954Z
LAST-MODIFIED:20230110T150954Z
UID:10000090-1675065600-1675267200@www.advantedge-training.com
SUMMARY:Access Boot Camp
DESCRIPTION:Microsoft Access Boot Camp Training\nClass Duration: 3 days\nDo you need to master building and managing databases in a hurry?  Our Boot Camp is an intensive crash course in Access. You will start with the basics\, such as navigation and basic forms\, and work your way through to the advanced features of the application\, such as macros and writing statements in SQL.  There will be ample of hands-on activities that allow you to be sure you have mastered each lesson\, and our experienced educators will be there to lead you to a thorough understanding of the material. This intensive three-day Access Boot Camp will take you from beginner to master of this powerful database application. \nTraining Class Goal\nStudents who complete this Access Boot Camp will learn to navigate\, build\, and manage databases.  They will learn to work with forms\, fields\, records\, and queries.  Students will be able to generate reports of their data\, and give it visual impact with PivotTables and Charts.  They will understand how to use macros and to write statements in SQL\, as well as to integrate internet applications into their databases. \nPrerequisites\nStudents should enter this Microsoft Access Boot Camp possessing intermediate computer skills\, and have some experience with Microsoft Excel and other Microsoft Office programs. \nTopics Covered\n\n\nDesign versus Datasheet View\nDatabase wizard\nCreating blank databases\nCreating tables\n\nWorking with Fields\n\nAdding fields\nIdentifying primary key fields\nAdding records\nChanging table designs\nModifying field names\nDeleting and inserting fields\n\nRecords\n\nFinding and editing records\nSorting and filtering records\nSetting field properties\nInput Masks\nValidation Rules\nIndexes\n\nQueries\n\nCreating Queries\nFiltering Queries\nModifying query results\nOperations in Queries\nUsing Calculators\nAverage and Count functions\nCreating forms to enter data\nFormatting and customizing forms\nUsing forms to find\, sort\, and filter records\nCreating reports through the report wizard\nField properties\n\nRelational databases\n\nDatabase normalization\nTable Relationships\nReferential integrity\n\nRelated Tables\n\nCreating lookup fields\nModifying lookup fields\nSub-datasheets\n\nComplex queries\n\nJoining tables in a query\nUsing calculated fields\nSummarizing and grouping values\n\nAdvanced form design\n\nAdding unbound controls\nGraphics\nAdding combo boxes\n\nReports and printing\n\nCustomized headers and footers\nCalculated values\nLabels\n\n\nCharts in forms and reports\nPivot Tables and Pivot Charts\n\nQuerying with SQL\n\nSQL and Access\nWriting SQL statements\nAttaching SQL queries to controls\n\nAdvanced Queries\n\nCreating parameter queries\nUsing Action queries\n\nMacros\n\nCreating\, running\, and modifying macros\nAttaching macros to the events of database objects\n\nAdvanced Macros\n\nCreating macros to provide user interaction\nCreating macros that require user input\nCreating the AutoKeys and AutoExec macros\nCreating macros for data transfer\n\nImporting\, Exporting\, and Linking\n\nImporting objects\nExporting objects\nInteracting with XML documents\nLinking Access objects\nWorking with Windows SharePoint Services\n\nDatabase Management\n\nOptimizing resources\nProtecting databases\nSetting options and properties\n\nInternet Integration\n\nHyperlink fields\nWorking with Outlook\nNavigation Forms\nTabbed Forms\nSwitchboards\nSplash Screens\nRead-Only Forms\nWorkshop – Instructor led assistance on individual student databases\n\nGet a database crash course with our Microsoft Access Boot Camp and go from novice to master in just five knowledge-packed days! Our courses are designed specifically for companies and their employees. \n\n 
URL:https://www.advantedge-training.com/class/access-boot-camp-2023-1-30/
CATEGORIES:Access
ATTACH;FMTTYPE=image/png:https://www.advantedge-training.com/wp-content/uploads/2020/02/access.png
END:VEVENT
BEGIN:VEVENT
DTSTART;TZID=America/Denver:20230215T080000
DTEND;TZID=America/Denver:20230215T120000
DTSTAMP:20260421T235632
CREATED:20230125T174515Z
LAST-MODIFIED:20230125T174515Z
UID:10000091-1676448000-1676462400@www.advantedge-training.com
SUMMARY:Excel Basic Training
DESCRIPTION:Excel Basic Training\nClass Duration: 4 hours\nFormat: Virtual classroom live training\nAre you new to Excel? An understanding of Excel is a requirement of nearly all professionals in today’s working world. This class is designed for students who need Excel training for beginners. This course will teach you how to get started on the right foot with essential skills for using Excel spreadsheets. You will learn how navigate within Excel\, easily enter information into spreadsheets\, learn tricks to best view and manipulate and format data\, and you will even learn how to create simple formulas. With basic Excel training\, you will learn how to work with pre-created spreadsheets\, as well as create your own simple spreadsheets from scratch. Our instructors will be on hand to answer your questions and lead you to a thorough understanding of the application on a beginner’s level. \nTraining Class Goal\nIn this Basic Excel training course\, students who complete the class will exit with a basic knowledge of Microsoft Excel\, and have the confidence to build simple worksheets that use the basic functionality of the program. You will understand how Excel works and how to use it\, giving you the foundation from which to grow. \nPrerequisites\nStudents entering this class should possess general knowledge of the use of a computer\, including the ability to use a mouse (click\, double-click\, right-click\, click-and-drag)\, and the ability to type on a keyboard. \nTopics Covered\n\nNavigating to accomplish tasks\n\nUsing the Ribbon\, Office Button\, and menus (depending on software version)\nCells\, columns\, and rows\nKeyboard shortcuts\nFreezing and splitting panes\nZooming\nHiding columns and rows\n\nEntering basic data into Excel\n\nFormatting dates and times\nSpell check\nUndo and redo buttons\nCreating and modifying tables\nSorting and filtering tables\n\nCreating basic Excel formulas\n\nSubtraction\, division\, multiplication\nCell references\n\nUsing functions\n\nManually typing functions\nAutoSum and AutoCalculate\n\nMoving and copying data\n\nCut\, copy & paste\nFill handle\nAutoFill\nFlash Fill\nSmart Tags\n\nOrganizing and Working with Multiple worksheets\n\nRenaming and coloring tabs\nMoving\, copying\, and inserting worksheets\nMargins\nHeaders and Footers\nPrinting Options\n\nBasic Excel Formatting\n\nAdjusting width and alignment\nFormatting text in cells\nWrapping and merging\nFormatting numbers\n\n\nThe basic Excel training is optimal for beginners and those new to this application. It will give you the skills needed to work with spreadsheets\, and get started in the intricate world of Excel. This training will give you the confidence to navigate a spreadsheet\, enter data into Excel\, and even create simple formulas. Today\, employers expect their workers to have at least an essential understanding of this important and powerful application. AdvantEdge Training’s Excel training for beginners will get you the skills you need for a solid foundation in the world of spreadsheets and workbooks.
URL:https://www.advantedge-training.com/class/excel-basic-training-2023-2-15/
LOCATION:Virtual
CATEGORIES:Excel,Excel Basic
ATTACH;FMTTYPE=image/png:https://www.advantedge-training.com/wp-content/uploads/2020/02/excel.png
END:VEVENT
BEGIN:VEVENT
DTSTART;TZID=America/Denver:20230215T130000
DTEND;TZID=America/Denver:20230215T170000
DTSTAMP:20260421T235632
CREATED:20221018T144623Z
LAST-MODIFIED:20230104T210440Z
UID:10000006-1676466000-1676480400@www.advantedge-training.com
SUMMARY:Excel Intermediate Training
DESCRIPTION:Excel Intermediate Training\nAll class times are in Mountain Time\nClass Duration: 4 hours\nFormat: Virtual classroom live training\nAre you ready to go beyond the basics in Excel? Our intermediate Excel training course covers more complex Excel functions\, charting\, and data tools. Build upon your basic knowledge of this essential application to learn more formatting\, more formulas\, and more functionality. You will learn to work with functions such as IF\, Proper\, Roundup\, and Date and Time functions\, as well as how to create visual impact with your data by creating charts. It also looks at how to create formulas across multiple spreadsheets in the same document. Our instructors will be available to answer your questions and make sure you have a firm understanding of Excel at a deeper level. \nTraining Class Goal\nIn the Intermediate Excel training course\, we will begin to explore how to utilize more complex functions\, including date and time functions and IF statements\, as well as AutoSum. We will also look at organizing data\, working with multiple worksheets\, and basic charting. The Intermediate Excel training builds on things learned in the Basic class. Students will learn how to do more with copying and pasting\, such as creating custom lists. They will learn more advanced formatting techniques like Conditional formatting. \nPrerequisites\nBefore taking this class\, students should have an understanding of basic Excel formulas and functions\, experience entering data into Microsoft Excel\, familiarity with Windows\, and basic computer skills. \nTopics Covered\n\nFormulas & Functions\n\nTyping formulas and functions\nCell references and reference formulas\nAutoSum\nThe Functions Library\nAverage\, date\, and time functions\nIF statements\nNested IF Statements\n\nMoving and Copying Data in Excel\n\nCut\, copy\, and paste data\nThe Fill Handle\nAbsolute and relative references\nAutoFill and custom Lists\n\nWorking with More Functions\n\nDate and Time Functions\nCalculating dates in years\nIF Statements in Date Functions\nThe Proper Function\nThe Roundup Function\n\nWorking with Multiple Worksheets\n\nRenaming worksheets\nColor coding tabs\nMoving and copying worksheets\n3D reference formulas\nHyperlinks\nScreenTips\n\nFormatting Cells and Appearance\n\nFormatting text and numbers in cells\nMerging cells\nWrapping text within a cell\nCustom number formats\nConditional formatting\nCopying formatting\n\nViewing Worksheets\n\nShowing formulas and references\nTracing precedents and dependents\nGrouping rows and columns\nCell comments\nHeaders and footers\n\nIntroduction to Basic Charts\n\nCreating and defining a chart\nPositioning\, rotating\, and resizing charts\nWordArt in charts\nEditing charts in Excel\nChanging types\nFormatting a data series\nMultiple series charts\nSparkline charts\n\n\nIntermediate Excel training covers things beyond the basics\, to give you more developed skills in building your spreadsheets\, creating formulas to automate them\, and adding visual impact with formatting and charts. AdvantEdge Training’s Intermediate Excel class will give you a confident level of proficiency in this important business application.
URL:https://www.advantedge-training.com/class/excel-intermediate-training-2023-2-15/
LOCATION:Virtual
CATEGORIES:Excel,Excel Intermediate
ATTACH;FMTTYPE=image/png:https://www.advantedge-training.com/wp-content/uploads/2020/02/excel.png
END:VEVENT
BEGIN:VEVENT
DTSTART;TZID=America/Denver:20230217T080000
DTEND;TZID=America/Denver:20230217T120000
DTSTAMP:20260421T235632
CREATED:20221018T145052Z
LAST-MODIFIED:20230104T210504Z
UID:10000007-1676620800-1676635200@www.advantedge-training.com
SUMMARY:Excel Advanced Training
DESCRIPTION:Excel Advanced Training\nClass Duration: 4 hours\nFormat: Virtual classroom live training\nThis Advanced Excel class is designed for everyday users of Excel\, who want to take their skills to the next level. Advanced Excel training covers more intricate formulas\, creating validations\, writing macros\, embedding other documents\, and protecting your data in Excel. The class includes useful functions for various business applications\, as well as how to combine these with other functions. Our instructors will be on hand to answer any questions you have and lead you to a thorough understanding of Excel at an advanced level. \nTraining Class Goal\nIn the Advanced Excel class students will come from this class feeling confident using many of the advanced features within Microsoft Excel\, including nested IF statements\, VLookups\, HLookups\, macros\, and validations. The primary focus of the Advanced Excel training course is on formulas\, specifically functions\, and how to nest them with other functions for more advanced automation. Tools for making your spreadsheets easier for others to use and view are also included. These include validations\, custom views\, protecting worksheets\, and embedding other documents or spreadsheets within your workbook. \nPrerequisites\nStudents should have a firm understanding of Excel fundamentals\, including formatting\, navigation\, basic formulas\, and basic functions. Students should be comfortable with basic IF statements. This Advanced Excel class builds upon knowledge gained in the Intermediate Excel course. Students should have a reasonable comfort level working in Excel at an intermediate proficiency before taking this course. \nTopics Covered\n\nAdvanced Formulas\n\nViewing available Excel functions\nBasic text functions\nBasic “IF” conditional formulas\nNesting “IF” statements\nConcatenate and “IF” statements with concatenate\nISBLANK Function\nCOUNTBLANK Function\nArrays\nUsing name ranges in formulas\n\nLook Ups and Other Functions\n\nLookups and Lookup functions\nHLookup\nVLookup\nCalculating days of the week\nCalculating number of weekdays from a date\nCalculating months between 2 dates\nSUMIF Function\n\nData Views\, Layouts\, and Rules\n\nTransposing Data\nValidations for length and drop-down lists\nCustom Views\n\nIntroduction to Macros\n\nDeveloper Tools\nSaving Macros\nAbsolute vs Relative Macros\nRecording Macros\nCreating Macro buttons\n\nAdditional Tools in Advanced Excel\n\nEmbedding and linking\nEditing and embedded object\nEditing a linked object\nLinking as an icon\nProtecting worksheets\nLocking cells\nProtecting a workbook\n\n\nAdvanced Excel training helps students learn new functions to enhance their spreadsheets\, as well as tools to make their spreadsheets easier to share\, with added automation. AdvantEdge Training’s Advanced Excel class will give you a mastery of the functions of this important business application. Our courses are designed specifically for companies and their employees.
URL:https://www.advantedge-training.com/class/excel-advanced-training-2023-2-17/
LOCATION:Virtual
CATEGORIES:Excel,Excel Advanced
ATTACH;FMTTYPE=image/png:https://www.advantedge-training.com/wp-content/uploads/2020/02/excel.png
END:VEVENT
BEGIN:VEVENT
DTSTART;TZID=America/Denver:20230227T080000
DTEND;TZID=America/Denver:20230227T160000
DTSTAMP:20260421T235632
CREATED:20221018T151103Z
LAST-MODIFIED:20230104T210524Z
UID:10000001-1677484800-1677513600@www.advantedge-training.com
SUMMARY:Excel Functions and Formulas Training
DESCRIPTION:Excel Functions And Formulas Training\nClass Duration: 7 hours\nFormat: Virtual classroom live training\nDo you need that extra boost to develop more complex functions and formulas? In this class you will learn advanced Excel formulas and functions to bring your spreadsheets to the next level. Learn how to develop more complex formulas and learn the power of arrays. Learn formulas to help you automate your spreadsheets to simplify them for easier use for others\, as well as yourself. Our instructors will be on hand to help you gain a mastery of these advanced functions and formulas of Excel\, as well as answer any questions you may have. \nTraining Class Goal\nBring your brains for this one! Students will leave this class with a solid understanding of advanced Excel formulas and functions that can help with their more complicated projects. This course takes an intense look at complex formulas\, as well as how to nest several different functions. Students will learn how to create dynamic drop-down lists to automate their spreadsheets for others to use. Arrays will also be applied to expand formulas to wider uses. Students will also learn how to write formulas that create filtered columns that eliminate blanks. \nPrerequisites\nStudents should enter this course with an understanding of Advanced Excel topics\, including basic formulas\, IF Statements\, and basic Lookup formulas. This is an intense one day course\, focusing on learning about functions and formulas. \nTopics Covered\n\n\nWorkbook Efficiency Techniques\nLogical and Information Functions\n\nNesting IF statements and Dates Functions\nAND Functions\n\n\nText and Lookup Functions\n\nFind\nLen\nConcatenate\n\n\nLookup Functions\n\nVLOOKUP\nHLOOKUP\n\n\nAdditional Functions\n\nISTEXT Functions\nISODD Functions\nISBLANK Functions\nArray Functions with Transpose\nArray Functions and SUM used with IF statements\n\n\nBuilding Intelligence\n\nComplex Nested IF Functions\nSearch\, Length and Hyperlinks\n\n\nUsing Functions to Create Dynamic Dropdown Lists\n\nVLOOKUP drop-down lists\nIF and VLOOKUP combination functions\nIndirect and VLOOKUP combination functions\nOffset drop-down lists\n\n\nFiltered Columns\n\nISTEXT function\nROW function\nISTEXT and ROW nested with IF functions\nSMALL function\nINDEX function\nIFERROR function\nARRAY function\nValidation Lists\nRemoving Blanks\nNo Blanks\n\n\n\n\nIn this advanced Excel formulas and functions course\, you will learn applications for a large variety of functions by themselves and combined\, enabling you to become a powerhouse in the world of spreadsheets.
URL:https://www.advantedge-training.com/class/excel-functions-and-formulas-training-2023-2-27/
LOCATION:Virtual
CATEGORIES:Excel,Excel Functions & Formulas
ATTACH;FMTTYPE=image/png:https://www.advantedge-training.com/wp-content/uploads/2020/02/excel.png
END:VEVENT
END:VCALENDAR