BEGIN:VCALENDAR
VERSION:2.0
PRODID:-//AdvantEdge Training &amp; Consulting - ECPv6.15.19//NONSGML v1.0//EN
CALSCALE:GREGORIAN
METHOD:PUBLISH
X-ORIGINAL-URL:https://www.advantedge-training.com
X-WR-CALDESC:Events for AdvantEdge Training &amp; Consulting
REFRESH-INTERVAL;VALUE=DURATION:PT1H
X-Robots-Tag:noindex
X-PUBLISHED-TTL:PT1H
BEGIN:VTIMEZONE
TZID:America/Denver
BEGIN:DAYLIGHT
TZOFFSETFROM:-0700
TZOFFSETTO:-0600
TZNAME:MDT
DTSTART:20220313T090000
END:DAYLIGHT
BEGIN:STANDARD
TZOFFSETFROM:-0600
TZOFFSETTO:-0700
TZNAME:MST
DTSTART:20221106T080000
END:STANDARD
BEGIN:DAYLIGHT
TZOFFSETFROM:-0700
TZOFFSETTO:-0600
TZNAME:MDT
DTSTART:20230312T090000
END:DAYLIGHT
BEGIN:STANDARD
TZOFFSETFROM:-0600
TZOFFSETTO:-0700
TZNAME:MST
DTSTART:20231105T080000
END:STANDARD
BEGIN:DAYLIGHT
TZOFFSETFROM:-0700
TZOFFSETTO:-0600
TZNAME:MDT
DTSTART:20240310T090000
END:DAYLIGHT
BEGIN:STANDARD
TZOFFSETFROM:-0600
TZOFFSETTO:-0700
TZNAME:MST
DTSTART:20241103T080000
END:STANDARD
END:VTIMEZONE
BEGIN:VEVENT
DTSTART;TZID=America/Denver:20230123T080000
DTEND;TZID=America/Denver:20230123T120000
DTSTAMP:20260422T050126
CREATED:20221018T150157Z
LAST-MODIFIED:20230104T210235Z
UID:10000008-1674460800-1674475200@www.advantedge-training.com
SUMMARY:PowerPoint Basic Training
DESCRIPTION:PowerPoint Basic – Building Blocks\nClass Duration: 4 hours\nFormat: Virtual classroom live training\nPowerPoint allows you to convey your ideas effectively to others with much greater impact than the spoken or written word alone can convey. Whether it is a sales proposal\, a training session\, or an annual stockholders’ presentation\, PowerPoint will help you keep your audience riveted and ready to absorb the information you are presenting. Our Basic PowerPoint training class will introduce you to this important application\, giving you the skills to build and run simple PowerPoint presentations\, Navigating the software is simple with our tips and tricks. To make sure you are gaining a confident foundation in PowerPoint\, our Basic class offers ample interactive activities. Our knowledgeable instructors will be there\, to answer your questions and lead you a strong understanding of PowerPoint basics. \nTraining Class Goal\nStudents exiting this class will be able to build a simple PowerPoint presentation. They will learn to navigate the application\, as well as utilize the different views available. Students will learn to create slides\, insert text and graphics\, and add charts to presentations to make data really pop. Animation and transitions between slides will also be covered. Finally\, students we understand the various tools for finalizing their presentations. \nPrerequisites\nStudents entering this Basic PowerPoint training course should possess basic computer skills\, and have a familiarity with Microsoft Windows. \nTopic Covered\n\n\nQuick Access menu\nMoving through slides\nViews\nZooming\nBuilding a new presentation\nEntering text\nSaving the presentation\n\nOutline View\n\nCreating new slides\nIndent levels\nCutting and pasting text\n\nSlide Master & Slide View\n\nFormatting the slide master\nApplying designs and styles\nWorking in the normal view\nInserting new slides\nCustomizing a slide\n\nPictures & Graphics\n\nInserting pictures\nResizing and moving pictures\nAutoShapes\nEntering text\nPlacing a picture on a slide\nPlaceholders\nDrawing shapes\n\nCharts\n\nAdding a chart\nEditing data in a chart\nFormatting a chart\n\nTransitions & Animations\n\nSlide sorter view\nDuplicating and rearranging slides\nSlide show window\nAnimating text\nTransitioning slides\n\nViewing the Presentation & Tools\n\nRunning the presentation\nPackaging for CD\nAudience handouts\n\nAdvantEdge Training’s Basic PowerPoint class\, will give you strong foundational skills in this application\, allowing you to express your ideas with simple\, yet solid\, presentations. Our courses are designed specifically for companies and their employees.
URL:https://www.advantedge-training.com/class/powerpoint-basic-training-2023-1-23/
LOCATION:Virtual
CATEGORIES:PowerPoint,PowerPoint Basic
ATTACH;FMTTYPE=image/png:https://www.advantedge-training.com/wp-content/uploads/2020/02/powerpoint.png
END:VEVENT
BEGIN:VEVENT
DTSTART;TZID=America/Denver:20230123T130000
DTEND;TZID=America/Denver:20230123T170000
DTSTAMP:20260422T050126
CREATED:20221018T150342Z
LAST-MODIFIED:20230104T210303Z
UID:10000009-1674478800-1674493200@www.advantedge-training.com
SUMMARY:PowerPoint Intermediate Training
DESCRIPTION:PowerPoint Intermediate – Designing for Presentation\nTake your PowerPoint skills to the next level by learning to make more complex\, interactive\, and engaging presentations. \nClass Duration: 4 hours\nFormat: Virtual classroom live training\nAre your PowerPoint presentations lacking the polish or punch you’d like them to have? Our Intermediate PowerPoint training class lets you take your PowerPoint skills to the next level\, enabling you to make more complex\, interactive\, and engaging presentations. This course will give you the ability to create presentations that will be more visually appealing and impactful when giving a presentation. The course provides ample interactive activity\, allowing you to be sure that you have mastered each lesson. The course provides ample interactive activity\, allowing you to be sure that you have mastered each lesson. Our experienced educators will be with you every step of the way\, leading you to a thorough understanding of the material\, and answering all of your questions. \nTraining Class Goal\nStudents exiting this class will learn the skills to create PowerPoint content for presentations. They will learn how to create consistent themes and color schemes\, customize images with many unique tricks\, and develop slides that will get the most audience retention. Students will understand more advanced slide formatting techniques and will learn to better use the master slide. They will learn to use more advanced techniques in working with pictures and SmartArt. More advanced presentation tools\, provided in PowerPoint\, will also be covered. \nPrerequisites\nStudents entering the Intermediate PowerPoint training course should have a general familiarity with Microsoft PowerPoint\, including adding slides\, editing content\, and working with graphics. Students should also feel comfortable working in Microsoft Word. \nTopics Covered\n\nCreating PowerPoint Slides for Impactful Presentations\n\nThe 5 step process to develop fast and professional PowerPoint presentations\nHow to create dynamic slides for presentations\nHow to create slides that increase audience retention and recall of content\nBest practices for powerful PowerPoint presentations\n\nSlide Master and Theme Formatting\n\nFormatting the Slide Master\nChanging theme colors\nCreating custom font themes\nChanging slide layouts\nThemes and colors for consistent and polished presentations\n\nPictures and Images\n\nThe proper balance of images and text on a slide\nThe best types of images to use\nWhere to find images\nInserting pictures\nResizing and moving images\nCropping images\n\nPictures Special Effects\n\nExpanding parts of images to create “blank space”\nMaking collages of images that look consistent\nModifying pictures with color and effects\nAdjusting image shading and color to best display text\nUsing Blur effects for slide backgrounds\nRotating images\n\nSmartArt\n\nCreating SmartArt displays of information\nFormatting SmartArt with color and shapes\n\nAdditional Tools\n\nUsing the mini slide-show window when editing\nWorking in Slide Sorter View\n\nInteractive Components\n\nAdding interactions with action buttons\nCreating hyperlinks with images\n\nCompleting the Presentation\n\nRunning the presentation\nHiding slides\nCreating Custom Shows\nAudience handouts – avoiding the slide deck print!\nAdditional presentation tools\nTips and tools for best running presentations\nAdditional presentation techniques\n\nLearn to go beyond the basics to build more complex and engaging presentations with AdvantEdge Training’s Intermediate PowerPoint training class. Our courses are designed specifically for companies and their employees.
URL:https://www.advantedge-training.com/class/powerpoint-intermediate-training-2023-1-23/
LOCATION:Virtual
CATEGORIES:PowerPoint,PowerPoint Intermediate
ATTACH;FMTTYPE=image/png:https://www.advantedge-training.com/wp-content/uploads/2020/02/powerpoint.png
END:VEVENT
BEGIN:VEVENT
DTSTART;TZID=America/Denver:20230124T080000
DTEND;TZID=America/Denver:20230124T120000
DTSTAMP:20260422T050126
CREATED:20221018T150825Z
LAST-MODIFIED:20230104T210331Z
UID:10000010-1674547200-1674561600@www.advantedge-training.com
SUMMARY:Word Intermediate Training
DESCRIPTION:Word Intermediate – More Than Words\nClass Duration: 4 hours\nFormat: Virtual classroom live training\nOnce you have mastered the basics of word processing\, it’s time to learn how to make your documents sparkle. MS Word offers tools that can turn your basic communications into eye-catching documents\, with formatting\, colors\, and graphics that work to emphasize and enhance your text. This Intermediate Microsoft Word training class covers intermediate topics in editing and designing of documents. You will learn to use MS Word as more than just a word processor\, creating polished and effective documents. Our training courses allow you to engage with our instructors\, as well as interactive practice activities\, to be sure you’ve mastered the course material. Our knowledgeable educators will be there in class to lead you to a solid mastery of Intermediate Word skills. \nTraining Class Goal\nStudents exiting this Intermediate MS Word class will be able to use Microsoft Office Word to create professional looking documents with graphics\, page layout\, and design elements. Students will learn to create\, use\, and edit templates. Students will master effort-saving tools\, such as using the Format Painter\, AutoText\, and the Status bar. The will understand collaborative tools\, such as comments and tracking changes. Students will know how to use more advanced editing tools\, and will be able to insert tables\, as well as import and manipulate graphics\, to seamlessly integrate them into documents. \nPrerequisites\nStudent who take this Intermediate Microsoft Office Word training course should possess basic Word and computer skills\, and should be comfortable navigating in the Microsoft Office environment. \nTopics Covered\n\n\nOpening templates\nAdding text into a template\nCreating a new template\nEditing templates\n\nTools to Save Time\n\nFormat Painter\nAdding entries to AutoText\nUsing AutoText\nUsing the Status Bar\nTracking changes\nComments\n\nOther Editing tools\n\nBullets and numbering\nCreating bullets and numbered lists\nAdjusting margins\nCreating a title\nAdding borders and shading\nSymbols and special characters\nHeaders and footers\n\nStyles\n\nApplying styles\nModifying formatting\nSaving the style\nWorking with sections\nInserting columns\nWorking with multiple sections\n\nGraphics\n\nImporting graphics\nResizing graphics\nCropping graphics\nText wrapping\nSmartArt\n\nTables\n\nSetting up a table\nInserting cells\nAdjusting column\, row\, and cell height\nMerging cells\n\nAdvantEdge Training’s Intermediate Microsoft Word class will allow you to go beyond simple text to create polished and eye-catching documents. Our courses are designed specifically for companies and their employees.
URL:https://www.advantedge-training.com/class/word-intermediate-training-2023-1-24/
LOCATION:Virtual
CATEGORIES:Word,Word Intermediate
ATTACH;FMTTYPE=image/png:https://www.advantedge-training.com/wp-content/uploads/2020/02/word.png
END:VEVENT
BEGIN:VEVENT
DTSTART;TZID=America/Denver:20230130T080000
DTEND;TZID=America/Denver:20230201T160000
DTSTAMP:20260422T050126
CREATED:20230110T150954Z
LAST-MODIFIED:20230110T150954Z
UID:10000090-1675065600-1675267200@www.advantedge-training.com
SUMMARY:Access Boot Camp
DESCRIPTION:Microsoft Access Boot Camp Training\nClass Duration: 3 days\nDo you need to master building and managing databases in a hurry?  Our Boot Camp is an intensive crash course in Access. You will start with the basics\, such as navigation and basic forms\, and work your way through to the advanced features of the application\, such as macros and writing statements in SQL.  There will be ample of hands-on activities that allow you to be sure you have mastered each lesson\, and our experienced educators will be there to lead you to a thorough understanding of the material. This intensive three-day Access Boot Camp will take you from beginner to master of this powerful database application. \nTraining Class Goal\nStudents who complete this Access Boot Camp will learn to navigate\, build\, and manage databases.  They will learn to work with forms\, fields\, records\, and queries.  Students will be able to generate reports of their data\, and give it visual impact with PivotTables and Charts.  They will understand how to use macros and to write statements in SQL\, as well as to integrate internet applications into their databases. \nPrerequisites\nStudents should enter this Microsoft Access Boot Camp possessing intermediate computer skills\, and have some experience with Microsoft Excel and other Microsoft Office programs. \nTopics Covered\n\n\nDesign versus Datasheet View\nDatabase wizard\nCreating blank databases\nCreating tables\n\nWorking with Fields\n\nAdding fields\nIdentifying primary key fields\nAdding records\nChanging table designs\nModifying field names\nDeleting and inserting fields\n\nRecords\n\nFinding and editing records\nSorting and filtering records\nSetting field properties\nInput Masks\nValidation Rules\nIndexes\n\nQueries\n\nCreating Queries\nFiltering Queries\nModifying query results\nOperations in Queries\nUsing Calculators\nAverage and Count functions\nCreating forms to enter data\nFormatting and customizing forms\nUsing forms to find\, sort\, and filter records\nCreating reports through the report wizard\nField properties\n\nRelational databases\n\nDatabase normalization\nTable Relationships\nReferential integrity\n\nRelated Tables\n\nCreating lookup fields\nModifying lookup fields\nSub-datasheets\n\nComplex queries\n\nJoining tables in a query\nUsing calculated fields\nSummarizing and grouping values\n\nAdvanced form design\n\nAdding unbound controls\nGraphics\nAdding combo boxes\n\nReports and printing\n\nCustomized headers and footers\nCalculated values\nLabels\n\n\nCharts in forms and reports\nPivot Tables and Pivot Charts\n\nQuerying with SQL\n\nSQL and Access\nWriting SQL statements\nAttaching SQL queries to controls\n\nAdvanced Queries\n\nCreating parameter queries\nUsing Action queries\n\nMacros\n\nCreating\, running\, and modifying macros\nAttaching macros to the events of database objects\n\nAdvanced Macros\n\nCreating macros to provide user interaction\nCreating macros that require user input\nCreating the AutoKeys and AutoExec macros\nCreating macros for data transfer\n\nImporting\, Exporting\, and Linking\n\nImporting objects\nExporting objects\nInteracting with XML documents\nLinking Access objects\nWorking with Windows SharePoint Services\n\nDatabase Management\n\nOptimizing resources\nProtecting databases\nSetting options and properties\n\nInternet Integration\n\nHyperlink fields\nWorking with Outlook\nNavigation Forms\nTabbed Forms\nSwitchboards\nSplash Screens\nRead-Only Forms\nWorkshop – Instructor led assistance on individual student databases\n\nGet a database crash course with our Microsoft Access Boot Camp and go from novice to master in just five knowledge-packed days! Our courses are designed specifically for companies and their employees. \n\n 
URL:https://www.advantedge-training.com/class/access-boot-camp-2023-1-30/
CATEGORIES:Access
ATTACH;FMTTYPE=image/png:https://www.advantedge-training.com/wp-content/uploads/2020/02/access.png
END:VEVENT
END:VCALENDAR