BEGIN:VCALENDAR
VERSION:2.0
PRODID:-//AdvantEdge Training &amp; Consulting - ECPv6.15.19//NONSGML v1.0//EN
CALSCALE:GREGORIAN
METHOD:PUBLISH
X-ORIGINAL-URL:https://www.advantedge-training.com
X-WR-CALDESC:Events for AdvantEdge Training &amp; Consulting
REFRESH-INTERVAL;VALUE=DURATION:PT1H
X-Robots-Tag:noindex
X-PUBLISHED-TTL:PT1H
BEGIN:VTIMEZONE
TZID:America/Denver
BEGIN:DAYLIGHT
TZOFFSETFROM:-0700
TZOFFSETTO:-0600
TZNAME:MDT
DTSTART:20250309T090000
END:DAYLIGHT
BEGIN:STANDARD
TZOFFSETFROM:-0600
TZOFFSETTO:-0700
TZNAME:MST
DTSTART:20251102T080000
END:STANDARD
BEGIN:DAYLIGHT
TZOFFSETFROM:-0700
TZOFFSETTO:-0600
TZNAME:MDT
DTSTART:20260308T090000
END:DAYLIGHT
BEGIN:STANDARD
TZOFFSETFROM:-0600
TZOFFSETTO:-0700
TZNAME:MST
DTSTART:20261101T080000
END:STANDARD
BEGIN:DAYLIGHT
TZOFFSETFROM:-0700
TZOFFSETTO:-0600
TZNAME:MDT
DTSTART:20270314T090000
END:DAYLIGHT
BEGIN:STANDARD
TZOFFSETFROM:-0600
TZOFFSETTO:-0700
TZNAME:MST
DTSTART:20271107T080000
END:STANDARD
END:VTIMEZONE
BEGIN:VEVENT
DTSTART;TZID=America/Denver:20260529T080000
DTEND;TZID=America/Denver:20260529T120000
DTSTAMP:20260419T103936
CREATED:20260305T184214Z
LAST-MODIFIED:20260310T164632Z
UID:10000222-1780041600-1780056000@www.advantedge-training.com
SUMMARY:PowerPoint Basic Training
DESCRIPTION:PowerPoint Basic – Building Blocks\nClass Duration: 4 hours\nFormat: Virtual classroom live training\nPowerPoint allows you to convey your ideas effectively to others with much greater impact than the spoken or written word alone can convey. Whether it is a sales proposal\, a training session\, or an annual stockholders’ presentation\, PowerPoint will help you keep your audience riveted and ready to absorb the information you are presenting. Our Basic PowerPoint training class will introduce you to this important application\, giving you the skills to build and run simple PowerPoint presentations\, Navigating the software is simple with our tips and tricks. To make sure you are gaining a confident foundation in PowerPoint\, our Basic class offers ample interactive activities. Our knowledgeable instructors will be there\, to answer your questions and lead you a strong understanding of PowerPoint basics. \nTraining Class Goal\nStudents exiting this class will be able to build a simple PowerPoint presentation. They will learn to navigate the application\, as well as utilize the different views available. Students will learn to create slides\, insert text and graphics\, and add charts to presentations to make data really pop. Animation and transitions between slides will also be covered. Finally\, students we understand the various tools for finalizing their presentations. \nPrerequisites\nStudents entering this Basic PowerPoint training course should possess basic computer skills\, and have a familiarity with Microsoft Windows. \nTopic Covered\n\n\nQuick Access menu\nMoving through slides\nViews\nZooming\nBuilding a new presentation\nEntering text\nSaving the presentation\n\nOutline View\n\nCreating new slides\nIndent levels\nCutting and pasting text\n\nSlide Master & Slide View\n\nFormatting the slide master\nApplying designs and styles\nWorking in the normal view\nInserting new slides\nCustomizing a slide\n\nPictures & Graphics\n\nInserting pictures\nResizing and moving pictures\nAutoShapes\nEntering text\nPlacing a picture on a slide\nPlaceholders\nDrawing shapes\n\nCharts\n\nAdding a chart\nEditing data in a chart\nFormatting a chart\n\nTransitions & Animations\n\nSlide sorter view\nDuplicating and rearranging slides\nSlide show window\nAnimating text\nTransitioning slides\n\nViewing the Presentation & Tools\n\nRunning the presentation\nPackaging for CD\nAudience handouts\n\nAdvantEdge Training’s Basic PowerPoint class\, will give you strong foundational skills in this application\, allowing you to express your ideas with simple\, yet solid\, presentations. Our courses are designed specifically for companies and their employees.
URL:https://www.advantedge-training.com/class/powerpoint-basic-training-2026-5-29/
LOCATION:Virtual
CATEGORIES:PowerPoint,PowerPoint Basic
ATTACH;FMTTYPE=image/png:https://www.advantedge-training.com/wp-content/uploads/2020/02/powerpoint.png
END:VEVENT
BEGIN:VEVENT
DTSTART;TZID=America/Denver:20260529T130000
DTEND;TZID=America/Denver:20260529T170000
DTSTAMP:20260419T103936
CREATED:20260305T184405Z
LAST-MODIFIED:20260310T164704Z
UID:10000221-1780059600-1780074000@www.advantedge-training.com
SUMMARY:PowerPoint Intermediate Training
DESCRIPTION:PowerPoint Intermediate – Designing for Presentation\nTake your PowerPoint skills to the next level by learning to make more complex\, interactive\, and engaging presentations. \nClass Duration: 4 hours\nAre your PowerPoint presentations lacking the polish or punch you’d like them to have? Our Intermediate PowerPoint training class lets you take your PowerPoint skills to the next level\, enabling you to make more complex\, interactive\, and engaging presentations. This course will give you the ability to create presentations that will be more visually appealing and impactful when giving a presentation. The course provides ample interactive activity\, allowing you to be sure that you have mastered each lesson. The course provides ample interactive activity\, allowing you to be sure that you have mastered each lesson. Our experienced educators will be with you every step of the way\, leading you to a thorough understanding of the material\, and answering all of your questions. \nTraining Class Goal\nStudents exiting this class will learn the skills to create PowerPoint content for presentations. They will learn how to create consistent themes and color schemes\, customize images with many unique tricks\, and develop slides that will get the most audience retention. Students will understand more advanced slide formatting techniques and will learn to better use the master slide. They will learn to use more advanced techniques in working with pictures and SmartArt. More advanced presentation tools\, provided in PowerPoint\, will also be covered. \nPrerequisites \nStudents entering the Intermediate PowerPoint training course should have a general familiarity with Microsoft PowerPoint\, including adding slides\, editing content\, and working with graphics. Students should also feel comfortable working in Microsoft Word. \nTopics Covered\nCreating PowerPoint Slides for Impactful Presentations\n\nThe 5 step process to develop fast and professional PowerPoint presentations\nHow to create dynamic slides for presentations\nHow to create slides that increase audience retention and recall of content\nBest practices for powerful PowerPoint presentations\n\nSlide Master and Theme Formatting\n\nFormatting the Slide Master\nChanging theme colors\nCreating custom font themes\nChanging slide layouts\nThemes and colors for consistent and polished presentations\n\nPictures and Images\n\nThe proper balance of images and text on a slide\nThe best types of images to use\nWhere to find images\nInserting pictures\nResizing and moving images\nCropping images\n\nPictures Special Effects\n\nExpanding parts of images to create “blank space”\nMaking collages of images that look consistent\nModifying pictures with color and effects\nAdjusting image shading and color to best display text\nUsing Blur effects for slide backgrounds\nRotating images\n\nSmartArt\n\nCreating SmartArt displays of information\nFormatting SmartArt with color and shapes\n\nAdditional Tools\n\nUsing the mini slide-show window when editing\nWorking in Slide Sorter View\n\nInteractive Components\n\nAdding interactions with action buttons\nCreating hyperlinks with images\n\nCompleting the Presentation\n\nRunning the presentation\nHiding slides\nCreating Custom Shows\nAudience handouts – avoiding the slide deck print!\nAdditional presentation tools\nTips and tools for best running presentations\nAdditional presentation techniques\n\nLearn to go beyond the basics to build more complex and engaging presentations with AdvantEdge Training’s Intermediate PowerPoint training class. Our courses are designed specifically for companies and their employees.
URL:https://www.advantedge-training.com/class/powerpoint-intermediate-training-2026-5-29/
LOCATION:Virtual
CATEGORIES:PowerPoint,PowerPoint Intermediate
ATTACH;FMTTYPE=image/png:https://www.advantedge-training.com/wp-content/uploads/2020/02/powerpoint.png
END:VEVENT
END:VCALENDAR