BEGIN:VCALENDAR
VERSION:2.0
PRODID:-//AdvantEdge Training &amp; Consulting - ECPv6.15.19//NONSGML v1.0//EN
CALSCALE:GREGORIAN
METHOD:PUBLISH
X-ORIGINAL-URL:https://www.advantedge-training.com
X-WR-CALDESC:Events for AdvantEdge Training &amp; Consulting
REFRESH-INTERVAL;VALUE=DURATION:PT1H
X-Robots-Tag:noindex
X-PUBLISHED-TTL:PT1H
BEGIN:VTIMEZONE
TZID:America/Denver
BEGIN:DAYLIGHT
TZOFFSETFROM:-0700
TZOFFSETTO:-0600
TZNAME:MDT
DTSTART:20250309T090000
END:DAYLIGHT
BEGIN:STANDARD
TZOFFSETFROM:-0600
TZOFFSETTO:-0700
TZNAME:MST
DTSTART:20251102T080000
END:STANDARD
BEGIN:DAYLIGHT
TZOFFSETFROM:-0700
TZOFFSETTO:-0600
TZNAME:MDT
DTSTART:20260308T090000
END:DAYLIGHT
BEGIN:STANDARD
TZOFFSETFROM:-0600
TZOFFSETTO:-0700
TZNAME:MST
DTSTART:20261101T080000
END:STANDARD
BEGIN:DAYLIGHT
TZOFFSETFROM:-0700
TZOFFSETTO:-0600
TZNAME:MDT
DTSTART:20270314T090000
END:DAYLIGHT
BEGIN:STANDARD
TZOFFSETFROM:-0600
TZOFFSETTO:-0700
TZNAME:MST
DTSTART:20271107T080000
END:STANDARD
END:VTIMEZONE
BEGIN:VEVENT
DTSTART;TZID=America/Denver:20260430T083000
DTEND;TZID=America/Denver:20260430T163000
DTSTAMP:20260419T090306
CREATED:20260305T184703Z
LAST-MODIFIED:20260305T184703Z
UID:10000225-1777537800-1777566600@www.advantedge-training.com
SUMMARY:Emotionally Intelligent Leadership
DESCRIPTION:Emotionally Intelligent Leadership Training\nClass Duration: 7 hours\nFormat: Virtual classroom live training\nIn the Emotionally Intelligence Leadership training you will learn how to employ EI techniques to maximize your leadership influence. Whether you are a manager\, supervisor\, or leader or others\, this course will help you refine the skills needed to lead so others follow. Learn how to read and influence others’ emotions\, anticipate other’s behaviors\, frame your communications and responses for maximum impact\, develop the skills to be more effective in communication\, manage conflicts better\, and get people from no to yes. \nTraining Class Goals\nThis course will help you build your leadership toolbox with EI tools\, strategies\, and approaches to help you be a successful leader who others want to follow. \nPrerequisites\nNone – this course is good for anyone who manages\, supervises\, or leads employees\, or who is looking to move into one of those roles. \nTopics Covered\n\n\nWhat is Emotional Intelligence and why is it important for Leaders?\nThe 3 Strategic Components of EI\nThe 5 steps to begin an EI response\nReading ourselves\n\nUnderstanding your Self-Perception\nEmotional Self Awareness\n\n\nAdjusting our Self-Expressions\nUnderstanding triggers\nPatterns\, Habits and Baggage\nCommunication focus areas\nUnderstanding Impulse Control\nCommunication for Leaders\n\nUnderstanding and reading others\nFiltering through the noise\nNon-verbal techniques\nCreating communication consistency\n\n\nUsing empathy to grow relationships\nDiffusing emotion in others to improve communications\nAvoiding emotional shark attacks\nBehaviors that don’t BODE well\nChanging reactions\nImproving Communications with Another\nInterpersonal techniques\n\nSocial responsibility\nBuilding company relationships\nTuring pessimists into optimists\n\n\n\n\nEmotionally Intelligent Leadership Training is a critical component to being a successful businessperson and manager. EI Leadership is a skill that can be developed with the right training. This course will give you the toolbox of critical things you will need to get you started. Our courses are designed specifically for companies and their employees.
URL:https://www.advantedge-training.com/class/emotionally-intelligent-leadership-2026-4-30/
LOCATION:Virtual
CATEGORIES:Emotionally Intelligent Leadership
ATTACH;FMTTYPE=image/png:https://www.advantedge-training.com/wp-content/uploads/2020/03/management.png
END:VEVENT
END:VCALENDAR