BEGIN:VCALENDAR
VERSION:2.0
PRODID:-//AdvantEdge Training &amp; Consulting - ECPv6.15.19//NONSGML v1.0//EN
CALSCALE:GREGORIAN
METHOD:PUBLISH
X-WR-CALNAME:AdvantEdge Training &amp; Consulting
X-ORIGINAL-URL:https://www.advantedge-training.com
X-WR-CALDESC:Events for AdvantEdge Training &amp; Consulting
REFRESH-INTERVAL;VALUE=DURATION:PT1H
X-Robots-Tag:noindex
X-PUBLISHED-TTL:PT1H
BEGIN:VTIMEZONE
TZID:America/Denver
BEGIN:DAYLIGHT
TZOFFSETFROM:-0700
TZOFFSETTO:-0600
TZNAME:MDT
DTSTART:20240310T090000
END:DAYLIGHT
BEGIN:STANDARD
TZOFFSETFROM:-0600
TZOFFSETTO:-0700
TZNAME:MST
DTSTART:20241103T080000
END:STANDARD
BEGIN:DAYLIGHT
TZOFFSETFROM:-0700
TZOFFSETTO:-0600
TZNAME:MDT
DTSTART:20250309T090000
END:DAYLIGHT
BEGIN:STANDARD
TZOFFSETFROM:-0600
TZOFFSETTO:-0700
TZNAME:MST
DTSTART:20251102T080000
END:STANDARD
BEGIN:DAYLIGHT
TZOFFSETFROM:-0700
TZOFFSETTO:-0600
TZNAME:MDT
DTSTART:20260308T090000
END:DAYLIGHT
BEGIN:STANDARD
TZOFFSETFROM:-0600
TZOFFSETTO:-0700
TZNAME:MST
DTSTART:20261101T080000
END:STANDARD
END:VTIMEZONE
BEGIN:VEVENT
DTSTART;TZID=America/Denver:20251015T130000
DTEND;TZID=America/Denver:20251015T170000
DTSTAMP:20260419T133728
CREATED:20251002T161228Z
LAST-MODIFIED:20251002T161228Z
UID:10000195-1760533200-1760547600@www.advantedge-training.com
SUMMARY:PowerPoint Basic Training
DESCRIPTION:PowerPoint Basic – Building Blocks\nClass Duration: 4 hours\nFormat: Virtual classroom live training\nPowerPoint allows you to convey your ideas effectively to others with much greater impact than the spoken or written word alone can convey. Whether it is a sales proposal\, a training session\, or an annual stockholders’ presentation\, PowerPoint will help you keep your audience riveted and ready to absorb the information you are presenting. Our Basic PowerPoint training class will introduce you to this important application\, giving you the skills to build and run simple PowerPoint presentations\, Navigating the software is simple with our tips and tricks. To make sure you are gaining a confident foundation in PowerPoint\, our Basic class offers ample interactive activities. Our knowledgeable instructors will be there\, to answer your questions and lead you a strong understanding of PowerPoint basics. \nTraining Class Goal\nStudents exiting this class will be able to build a simple PowerPoint presentation. They will learn to navigate the application\, as well as utilize the different views available. Students will learn to create slides\, insert text and graphics\, and add charts to presentations to make data really pop. Animation and transitions between slides will also be covered. Finally\, students we understand the various tools for finalizing their presentations. \nPrerequisites\nStudents entering this Basic PowerPoint training course should possess basic computer skills\, and have a familiarity with Microsoft Windows. \nTopic Covered\n\n\nQuick Access menu\nMoving through slides\nViews\nZooming\nBuilding a new presentation\nEntering text\nSaving the presentation\n\nOutline View\n\nCreating new slides\nIndent levels\nCutting and pasting text\n\nSlide Master & Slide View\n\nFormatting the slide master\nApplying designs and styles\nWorking in the normal view\nInserting new slides\nCustomizing a slide\n\nPictures & Graphics\n\nInserting pictures\nResizing and moving pictures\nAutoShapes\nEntering text\nPlacing a picture on a slide\nPlaceholders\nDrawing shapes\n\nCharts\n\nAdding a chart\nEditing data in a chart\nFormatting a chart\n\nTransitions & Animations\n\nSlide sorter view\nDuplicating and rearranging slides\nSlide show window\nAnimating text\nTransitioning slides\n\nViewing the Presentation & Tools\n\nRunning the presentation\nPackaging for CD\nAudience handouts\n\nAdvantEdge Training’s Basic PowerPoint class\, will give you strong foundational skills in this application\, allowing you to express your ideas with simple\, yet solid\, presentations. Our courses are designed specifically for companies and their employees.
URL:https://www.advantedge-training.com/class/powerpoint-basic-training-2025-10-15/
LOCATION:Virtual
CATEGORIES:PowerPoint,PowerPoint Basic
ATTACH;FMTTYPE=image/png:https://www.advantedge-training.com/wp-content/uploads/2020/02/powerpoint.png
END:VEVENT
END:VCALENDAR