BEGIN:VCALENDAR
VERSION:2.0
PRODID:-//AdvantEdge Training &amp; Consulting - ECPv6.15.19//NONSGML v1.0//EN
CALSCALE:GREGORIAN
METHOD:PUBLISH
X-ORIGINAL-URL:https://www.advantedge-training.com
X-WR-CALDESC:Events for AdvantEdge Training &amp; Consulting
REFRESH-INTERVAL;VALUE=DURATION:PT1H
X-Robots-Tag:noindex
X-PUBLISHED-TTL:PT1H
BEGIN:VTIMEZONE
TZID:America/Denver
BEGIN:DAYLIGHT
TZOFFSETFROM:-0700
TZOFFSETTO:-0600
TZNAME:MDT
DTSTART:20240310T090000
END:DAYLIGHT
BEGIN:STANDARD
TZOFFSETFROM:-0600
TZOFFSETTO:-0700
TZNAME:MST
DTSTART:20241103T080000
END:STANDARD
BEGIN:DAYLIGHT
TZOFFSETFROM:-0700
TZOFFSETTO:-0600
TZNAME:MDT
DTSTART:20250309T090000
END:DAYLIGHT
BEGIN:STANDARD
TZOFFSETFROM:-0600
TZOFFSETTO:-0700
TZNAME:MST
DTSTART:20251102T080000
END:STANDARD
BEGIN:DAYLIGHT
TZOFFSETFROM:-0700
TZOFFSETTO:-0600
TZNAME:MDT
DTSTART:20260308T090000
END:DAYLIGHT
BEGIN:STANDARD
TZOFFSETFROM:-0600
TZOFFSETTO:-0700
TZNAME:MST
DTSTART:20261101T080000
END:STANDARD
END:VTIMEZONE
BEGIN:VEVENT
DTSTART;TZID=America/Denver:20250306T080000
DTEND;TZID=America/Denver:20250306T120000
DTSTAMP:20260420T005915
CREATED:20250102T202431Z
LAST-MODIFIED:20250305T210708Z
UID:10000146-1741248000-1741262400@www.advantedge-training.com
SUMMARY:Excel Advanced Training
DESCRIPTION:Excel Advanced Training\nClass Duration: 4 hours\nThis Advanced Excel class is designed for everyday users of Excel\, who want to take their skills to the next level. Advanced Excel training covers more intricate formulas\, creating validations\, writing macros\, embedding other documents\, and protecting your data in Excel. The class includes useful functions for various business applications\, as well as how to combine these with other functions. Our instructors will be on hand to answer any questions you have and lead you to a thorough understanding of Excel at an advanced level. \nTraining Class Goal\nIn the Advanced Excel class students will come from this class feeling confident using many of the advanced features within Microsoft Excel\, including nested IF statements\, VLookups\, HLookups\, macros\, and validations. The primary focus of the Advanced Excel training course is on formulas\, specifically functions\, and how to nest them with other functions for more advanced automation. Tools for making your spreadsheets easier for others to use and view are also included. These include validations\, custom views\, protecting worksheets\, and embedding other documents or spreadsheets within your workbook. \nPrerequisites\nStudents should have a firm understanding of Excel fundamentals\, including formatting\, navigation\, basic formulas\, and basic functions. Students should be comfortable with basic IF statements. This Advanced Excel class builds upon knowledge gained in the Intermediate Excel course. Students should have a reasonable comfort level working in Excel at an intermediate proficiency before taking this course. \nTopics Covered\nAdvanced Formulas\n\nViewing available Excel functions\nBasic text functions\nBasic “IF” conditional formulas\nNesting “IF” statements\nConcatenate and “IF” statements with concatenate\nISBLANK Function\nCOUNTBLANK Function\nArrays\nUsing name ranges in formulas\n\nLook Ups and Other Functions\n\nLookups and Lookup functions\nHLookup\nVLookup\nCalculating days of the week\nCalculating number of weekdays from a date\nCalculating months between 2 dates\nSUMIF Function\n\nData Views\, Layouts\, and Rules\n\nTransposing Data\nValidations for length and drop-down lists\nCustom Views\n\nIntroduction to Macros\n\nDeveloper Tools\nSaving Macros\nAbsolute vs Relative Macros\nRecording Macros\nCreating Macro buttons\n\nAdditional Tools in Advanced Excel\n\nEmbedding and linking\nEditing and embedded object\nEditing a linked object\nLinking as an icon\nProtecting worksheets\nLocking cells\nProtecting a workbook\n\nAdvanced Excel training helps students learn new functions to enhance their spreadsheets\, as well as tools to make their spreadsheets easier to share\, with added automation. AdvantEdge Training’s Advanced Excel class will give you a mastery of the functions of this important business application. Our courses are designed specifically for companies and their employees.
URL:https://www.advantedge-training.com/class/excel-advanced-training-2025-3-6/
LOCATION:Virtual
CATEGORIES:Excel,Excel Advanced
ATTACH;FMTTYPE=image/png:https://www.advantedge-training.com/wp-content/uploads/2020/02/excel.png
END:VEVENT
END:VCALENDAR