BEGIN:VCALENDAR
VERSION:2.0
PRODID:-//AdvantEdge Training &amp; Consulting - ECPv6.15.20//NONSGML v1.0//EN
CALSCALE:GREGORIAN
METHOD:PUBLISH
X-WR-CALNAME:AdvantEdge Training &amp; Consulting
X-ORIGINAL-URL:https://www.advantedge-training.com
X-WR-CALDESC:Events for AdvantEdge Training &amp; Consulting
REFRESH-INTERVAL;VALUE=DURATION:PT1H
X-Robots-Tag:noindex
X-PUBLISHED-TTL:PT1H
BEGIN:VTIMEZONE
TZID:America/Denver
BEGIN:DAYLIGHT
TZOFFSETFROM:-0700
TZOFFSETTO:-0600
TZNAME:MDT
DTSTART:20210314T090000
END:DAYLIGHT
BEGIN:STANDARD
TZOFFSETFROM:-0600
TZOFFSETTO:-0700
TZNAME:MST
DTSTART:20211107T080000
END:STANDARD
BEGIN:DAYLIGHT
TZOFFSETFROM:-0700
TZOFFSETTO:-0600
TZNAME:MDT
DTSTART:20220313T090000
END:DAYLIGHT
BEGIN:STANDARD
TZOFFSETFROM:-0600
TZOFFSETTO:-0700
TZNAME:MST
DTSTART:20221106T080000
END:STANDARD
BEGIN:DAYLIGHT
TZOFFSETFROM:-0700
TZOFFSETTO:-0600
TZNAME:MDT
DTSTART:20230312T090000
END:DAYLIGHT
BEGIN:STANDARD
TZOFFSETFROM:-0600
TZOFFSETTO:-0700
TZNAME:MST
DTSTART:20231105T080000
END:STANDARD
END:VTIMEZONE
BEGIN:VEVENT
DTSTART;TZID=America/Denver:20220525T080000
DTEND;TZID=America/Denver:20220525T120000
DTSTAMP:20260422T151650
CREATED:20220107T215044Z
LAST-MODIFIED:20220107T215044Z
UID:10000037-1653465600-1653480000@www.advantedge-training.com
SUMMARY:Excel Advanced Training
DESCRIPTION:Excel Advanced Training\nClass Duration: 4 hours\nFormat: Virtual classroom live training\nThis Advanced Excel class is designed for everyday users of Excel\, who want to take their skills to the next level. Advanced Excel training covers more intricate formulas\, creating validations\, writing macros\, embedding other documents\, and protecting your data in Excel. The class includes useful functions for various business applications\, as well as how to combine these with other functions. Our instructors will be on hand to answer any questions you have and lead you to a thorough understanding of Excel at an advanced level. \nTraining Class Goal\nIn the Advanced Excel class students will come from this class feeling confident using many of the advanced features within Microsoft Excel\, including nested IF statements\, VLookups\, HLookups\, macros\, and validations. The primary focus of the Advanced Excel training course is on formulas\, specifically functions\, and how to nest them with other functions for more advanced automation. Tools for making your spreadsheets easier for others to use and view are also included. These include validations\, custom views\, protecting worksheets\, and embedding other documents or spreadsheets within your workbook. \nPrerequisites\nStudents should have a firm understanding of Excel fundamentals\, including formatting\, navigation\, basic formulas\, and basic functions. Students should be comfortable with basic IF statements. This Advanced Excel class builds upon knowledge gained in the Intermediate Excel course. Students should have a reasonable comfort level working in Excel at an intermediate proficiency before taking this course. \nTopics Covered\n\nAdvanced Formulas\n\nViewing available Excel functions\nBasic text functions\nBasic “IF” conditional formulas\nNesting “IF” statements\nConcatenate and “IF” statements with concatenate\nISBLANK Function\nCOUNTBLANK Function\nArrays\nUsing name ranges in formulas\n\nLook Ups and Other Functions\n\nLookups and Lookup functions\nHLookup\nVLookup\nCalculating days of the week\nCalculating number of weekdays from a date\nCalculating months between 2 dates\nSUMIF Function\n\nData Views\, Layouts\, and Rules\n\nTransposing Data\nValidations for length and drop-down lists\nCustom Views\n\nIntroduction to Macros\n\nDeveloper Tools\nSaving Macros\nAbsolute vs Relative Macros\nRecording Macros\nCreating Macro buttons\n\nAdditional Tools in Advanced Excel\n\nEmbedding and linking\nEditing and embedded object\nEditing a linked object\nLinking as an icon\nProtecting worksheets\nLocking cells\nProtecting a workbook\n\n\nAdvanced Excel training helps students learn new functions to enhance their spreadsheets\, as well as tools to make their spreadsheets easier to share\, with added automation. AdvantEdge Training’s Advanced Excel class will give you a mastery of the functions of this important business application. Our courses are designed specifically for companies and their employees.
URL:https://www.advantedge-training.com/class/excel-advanced-training-2022-5-25/
LOCATION:Virtual
CATEGORIES:Excel,Excel Advanced
ATTACH;FMTTYPE=image/png:https://www.advantedge-training.com/wp-content/uploads/2020/02/excel.png
END:VEVENT
BEGIN:VEVENT
DTSTART;TZID=America/Denver:20220525T130000
DTEND;TZID=America/Denver:20220525T170000
DTSTAMP:20260422T151650
CREATED:20220110T160605Z
LAST-MODIFIED:20220110T160605Z
UID:10000028-1653483600-1653498000@www.advantedge-training.com
SUMMARY:Excel Pivot Tables and Charts Training
DESCRIPTION:Excel Pivot Tables and Charts Training\nClass Duration: 4 hours\nFormat: Virtual classroom live training\nIn this Microsoft Excel Pivot Tables and Charts course you will learn how to analyze data using these important tools. You will learn how to turn a table of data into a manageable analysis\, without ever having to alter the original table. You will also learn how to give your data more visual impact\, using the many different charts available in Excel. Your instructor will be available to help you with any questions\, as well as lead you to a thorough understanding of these powerful visual tools. \nTraining Class Goal\nIn the Microsoft Excel Pivot Table and Charts training\, in our Denver and Phoenix training centers\, students will come from class with more confidence in using Pivot Tables and Charts\, as well as have an understanding of how data in Excel can be displayed in a visual way. They will learn how to create Pivot Tables that can calculate\, compare\, and total data from a table. They will also feel confident in how to use all of the various formatting tools to make their Pivot Tables really pop. Students will also learn all of the different types of charts available in Excel\, and when best to use each. Additional charting techniques will be covered\, allowing the students make their charts really stand out from the default templates\, including drop-lines and unique axis formatting\, as well as using trending\, and analysis tools. \nPrerequisites\nStudents should enter the Excel Pivot Tables and Charts course with an understanding of Excel fundamentals\, including formatting\, navigation\, and basic formulas. \nTopics Covered\n\nPivot Tables training topics\n\nCreating\, sorting\, and filtering data\nFormatting styles\nNumbers and layouts\nGrouping data\nValue Comparisons\nRow and Column Comparisons\nAdding running totals and percentage totals\nCalculated fields and items\nCombining multiple data sources\nCreating Pivot Table charts with filters and design elements\nConditional formatting\nOther classes covering Pivot Tables\n\nCharts training topics\n\nCreating charts\nUnderstanding single versus multiple series charts\nModifying chart design\, layout\, and format\nCreating charts from non-consecutive data\nDrop-lines\nAxis formatting\nReplacing chart series with pictures or shapes\nAnalysis tools\nUp-Down bars\nTrending tools\nUsing secondary axis\nHighlighting relationship differences with charts\nCombining two charts into one\nDoughnut Charts\nSub-Pie Charts\nPaired Bar Charts\nRadar Charts\n\nThe Microsoft Excel Pivot Tables and Charts training class will give you all the tools you need to understand both of these Excel features and how to use them like a master. Our courses are designed specifically for companies and their employees. Our instructors are based in Arizona and Colorado but can travel to train at your location anywhere in the US.
URL:https://www.advantedge-training.com/class/excel-pivot-tables-and-charts-training-2022-5-25/
LOCATION:Virtual
CATEGORIES:Excel,Excel Pivot Tables & Charts
ATTACH;FMTTYPE=image/png:https://www.advantedge-training.com/wp-content/uploads/2020/02/excel.png
END:VEVENT
END:VCALENDAR