BEGIN:VCALENDAR
VERSION:2.0
PRODID:-//AdvantEdge Training &amp; Consulting - ECPv6.15.20//NONSGML v1.0//EN
CALSCALE:GREGORIAN
METHOD:PUBLISH
X-ORIGINAL-URL:https://www.advantedge-training.com
X-WR-CALDESC:Events for AdvantEdge Training &amp; Consulting
REFRESH-INTERVAL;VALUE=DURATION:PT1H
X-Robots-Tag:noindex
X-PUBLISHED-TTL:PT1H
BEGIN:VTIMEZONE
TZID:America/Denver
BEGIN:DAYLIGHT
TZOFFSETFROM:-0700
TZOFFSETTO:-0600
TZNAME:MDT
DTSTART:20210314T090000
END:DAYLIGHT
BEGIN:STANDARD
TZOFFSETFROM:-0600
TZOFFSETTO:-0700
TZNAME:MST
DTSTART:20211107T080000
END:STANDARD
BEGIN:DAYLIGHT
TZOFFSETFROM:-0700
TZOFFSETTO:-0600
TZNAME:MDT
DTSTART:20220313T090000
END:DAYLIGHT
BEGIN:STANDARD
TZOFFSETFROM:-0600
TZOFFSETTO:-0700
TZNAME:MST
DTSTART:20221106T080000
END:STANDARD
BEGIN:DAYLIGHT
TZOFFSETFROM:-0700
TZOFFSETTO:-0600
TZNAME:MDT
DTSTART:20230312T090000
END:DAYLIGHT
BEGIN:STANDARD
TZOFFSETFROM:-0600
TZOFFSETTO:-0700
TZNAME:MST
DTSTART:20231105T080000
END:STANDARD
END:VTIMEZONE
BEGIN:VEVENT
DTSTART;TZID=America/Denver:20220427T080000
DTEND;TZID=America/Denver:20220427T120000
DTSTAMP:20260422T162654
CREATED:20220107T220240Z
LAST-MODIFIED:20220418T124334Z
UID:10000024-1651046400-1651060800@www.advantedge-training.com
SUMMARY:Microsoft Quick Tips Training
DESCRIPTION:Microsoft Quick Tips Training\nClass Duration: 4 hours\nFormat: Virtual classroom live training\nWant to know all the cool tips in Microsoft Office programs that will save you time and show you unique ways to use the software? Then this class is for you! We cover all the fun tips in Excel\, Word and PowerPoint all in one class. \nPrerequisites\nBecause this class does not teach the basics of how to use the software\, but more the specific tips in each application\, it is important that students already have a basic working knowledge of each application. Before taking this class\, students should have an understanding of basic Excel\, basic Word\, and basic PowerPoint\, and familiarity with Windows\, and basic computer skills. \nTopics Covered\n\nExcel\n\nQuick Analysis Tool\nConditional Formatting\nCreating Cascading List Boxes\nRemoving Duplicates\nFlash Fill\nMerge and Center\nAuto Calculate\nAutoFill Features\nCreating Drop-Down Filters in Lists\n\nWord\n\nFormat Painter\nWrapping Text and Pictures\nComparing Two Documents\nHow Tabs Really Work\nUsing Styles\n\nPowerPoint\n\nUsing the Slide Master\nChanging Slide Layouts\nEyedropper tool\nLayering Objects\nUsing Design Ideas Feature\nCreating Custom Motion Path Animation\n\n\nAdvantEdge Training’s Microsoft Quick Tips course covers the unique tips in the 3 core Microsoft Applications.
URL:https://www.advantedge-training.com/class/microsoft-quick-tips-training-2022-4-27/
LOCATION:Virtual
CATEGORIES:Microsoft Quick Tips
ATTACH;FMTTYPE=image/jpeg:https://www.advantedge-training.com/wp-content/uploads/2020/11/icon_office-1.jpg
END:VEVENT
END:VCALENDAR