BEGIN:VCALENDAR
VERSION:2.0
PRODID:-//AdvantEdge Training &amp; Consulting - ECPv6.15.20//NONSGML v1.0//EN
CALSCALE:GREGORIAN
METHOD:PUBLISH
X-ORIGINAL-URL:https://www.advantedge-training.com
X-WR-CALDESC:Events for AdvantEdge Training &amp; Consulting
REFRESH-INTERVAL;VALUE=DURATION:PT1H
X-Robots-Tag:noindex
X-PUBLISHED-TTL:PT1H
BEGIN:VTIMEZONE
TZID:America/Denver
BEGIN:DAYLIGHT
TZOFFSETFROM:-0700
TZOFFSETTO:-0600
TZNAME:MDT
DTSTART:20200308T090000
END:DAYLIGHT
BEGIN:STANDARD
TZOFFSETFROM:-0600
TZOFFSETTO:-0700
TZNAME:MST
DTSTART:20201101T080000
END:STANDARD
BEGIN:DAYLIGHT
TZOFFSETFROM:-0700
TZOFFSETTO:-0600
TZNAME:MDT
DTSTART:20210314T090000
END:DAYLIGHT
BEGIN:STANDARD
TZOFFSETFROM:-0600
TZOFFSETTO:-0700
TZNAME:MST
DTSTART:20211107T080000
END:STANDARD
BEGIN:DAYLIGHT
TZOFFSETFROM:-0700
TZOFFSETTO:-0600
TZNAME:MDT
DTSTART:20220313T090000
END:DAYLIGHT
BEGIN:STANDARD
TZOFFSETFROM:-0600
TZOFFSETTO:-0700
TZNAME:MST
DTSTART:20221106T080000
END:STANDARD
END:VTIMEZONE
BEGIN:VEVENT
DTSTART;TZID=America/Denver:20211026T080000
DTEND;TZID=America/Denver:20211026T160000
DTSTAMP:20260423T003148
CREATED:20210824T180143Z
LAST-MODIFIED:20211030T123042Z
UID:10000050-1635235200-1635264000@www.advantedge-training.com
SUMMARY:Virtual Public Speaking
DESCRIPTION:Virtual Public Speaking Training\nClass Duration: 7 hours\nFormat: Virtual classroom live training\nDo you need to deliver presentations virtually? Does the thought of giving a presentation cause you anxiety? Public speaking is a skill that can be developed through training. And when delivering your presentations in a virtual environment\, there are special considerations and techniques to ensure you get the best results. In our public speaking courses you will develop the skills you need to communicate with conviction\, clarity and confidence. This virtual public speaking course\, will teach you presentation skills for the best virtual delivery\, to help you master the basics in learning how to enhance your own natural speaking style\, organize your information\, overcome fear\, and create a polished presentation. \nTraining Class Goal\nWith the Virtual Public Speaking class\, you will learn the components of an effective presentation and how to put together the pieces of your content to deliver a memorable speech. This course gives you all of the details on laying the foundation for a solid presentation. It will show you how to prepare for your audience\, how to grab their attention\, and how to ensure you are delivering content that is impactful for your audience. It will give you techniques to overcome your fear and be more comfortable when presenting. You will also learn techniques on how to keep your audience engaged when using a virtual format. This public speaking course will help you: \n\n\nGain confidence and ease when presenting to an audience\nUnderstand your audience\nCommunicate clearly and persuasively\nUnderstand how to organize your information for high impact\nKnow how to start and end a presentation effectively\nLearn how to deal with nerves\nSpecial considerations for a virtual format to ensure you look your best\nWays to keep your audience engaged in a virtual format\n\n\nStudents will create their own presentation during the course and practice components of it. \nPrerequisites\nThere are no prerequisites for the course \nTopics Covered\n\n\nCommon myths of presentations\nCreate an audience profile and set presentation parameters\nDevelop clear content that addresses audience expectations\nDevelop the body and content of a presentation\nCreate powerful introductions\nControl and manage fear\nCreate impactful introductions and closings\nDeveloping a strong presence\nPreparing the virtual environment\nWays to get your virtual audience to engage\n\n\nOur virtual public speaking classes and courses will help you learn how to create a presentation for a virtual environment and deliver it in an effective\, profession and engaging way.
URL:https://www.advantedge-training.com/class/virtual-public-speaking-2021-10-26/
LOCATION:Virtual
CATEGORIES:Communication,Virtual Public Speaking
ATTACH;FMTTYPE=image/png:https://www.advantedge-training.com/wp-content/uploads/2020/03/communication.png
END:VEVENT
END:VCALENDAR