BEGIN:VCALENDAR
VERSION:2.0
PRODID:-//AdvantEdge Training &amp; Consulting - ECPv6.15.20//NONSGML v1.0//EN
CALSCALE:GREGORIAN
METHOD:PUBLISH
X-ORIGINAL-URL:https://www.advantedge-training.com
X-WR-CALDESC:Events for AdvantEdge Training &amp; Consulting
REFRESH-INTERVAL;VALUE=DURATION:PT1H
X-Robots-Tag:noindex
X-PUBLISHED-TTL:PT1H
BEGIN:VTIMEZONE
TZID:America/Denver
BEGIN:DAYLIGHT
TZOFFSETFROM:-0700
TZOFFSETTO:-0600
TZNAME:MDT
DTSTART:20200308T090000
END:DAYLIGHT
BEGIN:STANDARD
TZOFFSETFROM:-0600
TZOFFSETTO:-0700
TZNAME:MST
DTSTART:20201101T080000
END:STANDARD
BEGIN:DAYLIGHT
TZOFFSETFROM:-0700
TZOFFSETTO:-0600
TZNAME:MDT
DTSTART:20210314T090000
END:DAYLIGHT
BEGIN:STANDARD
TZOFFSETFROM:-0600
TZOFFSETTO:-0700
TZNAME:MST
DTSTART:20211107T080000
END:STANDARD
BEGIN:DAYLIGHT
TZOFFSETFROM:-0700
TZOFFSETTO:-0600
TZNAME:MDT
DTSTART:20220313T090000
END:DAYLIGHT
BEGIN:STANDARD
TZOFFSETFROM:-0600
TZOFFSETTO:-0700
TZNAME:MST
DTSTART:20221106T080000
END:STANDARD
END:VTIMEZONE
BEGIN:VEVENT
DTSTART;TZID=America/Denver:20210701T080000
DTEND;TZID=America/Denver:20210701T160000
DTSTAMP:20260423T052553
CREATED:20210317T182854Z
LAST-MODIFIED:20210317T182854Z
UID:10000058-1625126400-1625155200@www.advantedge-training.com
SUMMARY:Effective Business Communication Training
DESCRIPTION:Effective Business Communications Training\nClass Duration: 7 hours\nFormat: Virtual classroom live training\nEffective Communication can lead directly to improvement in your self-confidence\, career\, relationships\, and your entire life’s quality. Effective business communication training can help you be more effective at work\, ensure your points come across correctly\, and help you create stronger work relationships. In this business communication class you will learn how to be effective when communicating at work to generate the results you want. \nTraining Class Goal\nIn the Effective Business Communication class you will learn how to be more effective in your communications while at work by refining your skills in: \n\n\nVerbal communication\nNon-verbal communication\nListening\nViewing the world from another’s perspective\nIntuition in conversations\nCreating a positive interaction even in negative situations\n\n\nDo you have a hard time saying “No”? Or are you too assertive and tend to alienate others? This business communication training will help you learn how to diplomatically learn to say “No” and how to be assertive without being a steamroller. \nCan it be difficult to get to the root of people’s needs or desires in a conversation? This course will help you learn how to get to the main issues that others may have a hard time communicating. \nPrerequisites\nNone – this class is useful for anyone working in business that wants to improve their communication skills at the office. \nTopic Covered\n\n\nThe need for effective communication\nUnderstanding other’s perspectives\nHow to probe and paraphrase\nListening skills\nThe difference between what is said and what is heard\nBody language and mastering non-verbals\nHow to deliver an effective message\nWorking through a negative image\nPositive Assertiveness\nExpressing your No\nPreventing problems\nNegative vs positive interactions\nDealing with Negative feelings
URL:https://www.advantedge-training.com/class/effective-business-communication-training-2021-7-1/
LOCATION:Virtual
CATEGORIES:Communication,Effective Business Communication
ATTACH;FMTTYPE=image/png:https://www.advantedge-training.com/wp-content/uploads/2020/03/communication.png
END:VEVENT
END:VCALENDAR